
BEGIN:VCALENDAR
VERSION:2.0
PRODID:-//영에듀케이션 - PTE, IELTS, OET, CCL, HCC, NICC 전문영어교육 - ECPv6.15.20//NONSGML v1.0//EN
CALSCALE:GREGORIAN
METHOD:PUBLISH
X-ORIGINAL-URL:https://www.youngeducation.com.au/en
X-WR-CALDESC:Events for 영에듀케이션 - PTE, IELTS, OET, CCL, HCC, NICC 전문영어교육
REFRESH-INTERVAL;VALUE=DURATION:PT1H
X-Robots-Tag:noindex
X-PUBLISHED-TTL:PT1H
BEGIN:VTIMEZONE
TZID:Australia/Sydney
BEGIN:STANDARD
TZOFFSETFROM:+1100
TZOFFSETTO:+1000
TZNAME:AEST
DTSTART:20250405T160000
END:STANDARD
BEGIN:DAYLIGHT
TZOFFSETFROM:+1000
TZOFFSETTO:+1100
TZNAME:AEDT
DTSTART:20251004T160000
END:DAYLIGHT
BEGIN:STANDARD
TZOFFSETFROM:+1100
TZOFFSETTO:+1000
TZNAME:AEST
DTSTART:20260404T160000
END:STANDARD
BEGIN:DAYLIGHT
TZOFFSETFROM:+1000
TZOFFSETTO:+1100
TZNAME:AEDT
DTSTART:20261003T160000
END:DAYLIGHT
BEGIN:STANDARD
TZOFFSETFROM:+1100
TZOFFSETTO:+1000
TZNAME:AEST
DTSTART:20270403T160000
END:STANDARD
BEGIN:DAYLIGHT
TZOFFSETFROM:+1000
TZOFFSETTO:+1100
TZNAME:AEDT
DTSTART:20271002T160000
END:DAYLIGHT
END:VTIMEZONE
BEGIN:VEVENT
DTSTART;VALUE=DATE:20260427
DTEND;VALUE=DATE:20260428
DTSTAMP:20260425T220535
CREATED:20260415T113429Z
LAST-MODIFIED:20260423T062647Z
UID:7130-1777248000-1777334399@www.youngeducation.com.au
SUMMARY:안작 데이
DESCRIPTION:2026년 안작 데이는4월 25일 토요일 입니다.\n뉴사우스웨일즈주를 포함한 많은 주에서 해당 날짜는 공휴일로 지정되어 있으며\, 4월 27일 월요일은 대체 공휴일입니다. \n 
URL:https://www.youngeducation.com.au/en/event/anzacday/
CATEGORIES:Holiday
ATTACH;FMTTYPE=image/png:https://www.youngeducation.com.au/wp-content/uploads/2023/04/undraw_heartbroken_cble.png
END:VEVENT
END:VCALENDAR