
BEGIN:VCALENDAR
VERSION:2.0
PRODID:-//영에듀케이션 - PTE, IELTS, OET, CCL, HCC, NICC 전문영어교육 - ECPv6.15.20//NONSGML v1.0//EN
CALSCALE:GREGORIAN
METHOD:PUBLISH
X-WR-CALNAME:영에듀케이션 - PTE, IELTS, OET, CCL, HCC, NICC 전문영어교육
X-ORIGINAL-URL:https://www.youngeducation.com.au/en
X-WR-CALDESC:Events for 영에듀케이션 - PTE, IELTS, OET, CCL, HCC, NICC 전문영어교육
REFRESH-INTERVAL;VALUE=DURATION:PT1H
X-Robots-Tag:noindex
X-PUBLISHED-TTL:PT1H
BEGIN:VTIMEZONE
TZID:Australia/Sydney
BEGIN:STANDARD
TZOFFSETFROM:+1100
TZOFFSETTO:+1000
TZNAME:AEST
DTSTART:20220402T160000
END:STANDARD
BEGIN:DAYLIGHT
TZOFFSETFROM:+1000
TZOFFSETTO:+1100
TZNAME:AEDT
DTSTART:20221001T160000
END:DAYLIGHT
BEGIN:STANDARD
TZOFFSETFROM:+1100
TZOFFSETTO:+1000
TZNAME:AEST
DTSTART:20230401T160000
END:STANDARD
BEGIN:DAYLIGHT
TZOFFSETFROM:+1000
TZOFFSETTO:+1100
TZNAME:AEDT
DTSTART:20230930T160000
END:DAYLIGHT
BEGIN:STANDARD
TZOFFSETFROM:+1100
TZOFFSETTO:+1000
TZNAME:AEST
DTSTART:20240406T160000
END:STANDARD
BEGIN:DAYLIGHT
TZOFFSETFROM:+1000
TZOFFSETTO:+1100
TZNAME:AEDT
DTSTART:20241005T160000
END:DAYLIGHT
END:VTIMEZONE
BEGIN:VEVENT
DTSTART;TZID=Australia/Sydney:20231111T150000
DTEND;TZID=Australia/Sydney:20231111T171500
DTSTAMP:20260425T105459
CREATED:20231025T041818Z
LAST-MODIFIED:20231027T150316Z
UID:8246-1699714800-1699722900@www.youngeducation.com.au
SUMMARY:[웨비나] 에이지드케어 오디세이: 취업/영주권의 문을열다!
DESCRIPTION:에이지드케어 오디세이\n: 취업 영주권의 문을 열다!\n  \n‘에이지드케어 오디세이:취업/영주권의 문을열다!’ 웨비나가 영에듀케이션 ZOOM 웨비나 회의실에서 열립니다. \n2023년 11월 11일\, 호주영주권과 취업 우선순위에 꼽히는 핫한 분야! 에이지드 케어의 최신동향과 준비방법과 과정\,호주 현장실습과 인턴쉽 과정을 알아봅니다.\n에이지드 케어의 이론 수업과정을 한국과 호주중 원하는 곳에서 수료할 수 있다는 장점을 가진 코스이며\, 실습과 인턴쉽은 호주에서 이루어진다는 점에서 자연스럽게 글로벌 취업의 기회를 얻을 수 있습니다.\n영에듀케이션에서 주관\, 주최하며 브라이튼 인스티튜트를 초빙하여 이루어지는 이번 웨비나에서 전망있는 직업분야인 에이지드케어에 누구보다 빠르게 정보를 얻고\, 성공적인 준비를 해 나가시길 바랍니다. \n세미나 이후 Q&A 시간을 통해 여러분의 학업과 취업에 대한 구체적인 구상이 가능합니다.\n에이지드케어 학업과 관련 해외 인턴쉽 및 취업과 비자준비에 필수적인 영어공부와 영어시험에 관한 Q&A 시간 또한 마련되어 있으니 많은 참여바랍니다. \n  \n– 날짜&시간: \n2023년 11월 11일 토요일 / 3:00 pm ~ 4:00pm / 4:15 pm ~ 5:15 pm (**시드니 기준) \n– 장소: \n [100% 온라인] Zoom 웨비나 회의실 (예약자에 한해 추후 링크 제공) \n⏰ 지금 바로 예약신청 하세요! \n\n웨비나 신청하기 \nPlease enable JavaScript in your browser to complete this form.성함 *\n예약확인을 위해 성함 (한글+영문) 기입을 꼭 해주세요.이메일 *EmailConfirm Email\n예약 확정 및 zoom webinar Link 전달 을 위해 반드시 확인 가능한 email을 남겨주세요.카카오톡 아이디휴대폰 번호 *원활한 세미나 예약 진행을 위해 연락 가능한 번호를 남겨주시길 바랍니다.현재 거주지 *한국호주그 외의 다른나라현재 나의 에이지드 케어 유학/취업 준비상태영어성적 보유영어성적 준비중에이지드 케어 관련 업무경험 있음에이지드 케어는 잘 모르지만 관심있음* 중복선택 가능웨비나 세션 선택 *Session 1 (3:00 - 4:00 pm) - 한국센터 코스안내 + 해외실습 과정 설명Session 2 (4:15pm - 5:15pm) - 호주센터 코스안내 +해외실습 과정 설명**시드니시각 기준\nZoom Webinar 참석은 수강을 희망하는 국가(한국/호주)에 맞게 준비했습니다.두 세션 모두 선택하여 들으실 수도 있습니다.예약신청서 보내기  \n  \n  \n\n\n\n \n이벤트 확인하기 >>  \n영에듀케이션 블로그 >>
URL:https://www.youngeducation.com.au/en/event/%ec%97%90%ec%9d%b4%ec%a7%80%eb%93%9c%ec%bc%80%ec%96%b4-%ec%98%a4%eb%94%94%ec%84%b8%ec%9d%b4/
CATEGORIES:Seminar
END:VEVENT
END:VCALENDAR